BEGIN:VCALENDAR
VERSION:2.0
PRODID:-//City of West Carrollton - ECPv6.15.20//NONSGML v1.0//EN
CALSCALE:GREGORIAN
METHOD:PUBLISH
X-WR-CALNAME:City of West Carrollton
X-ORIGINAL-URL:https://www.westcarrollton.org
X-WR-CALDESC:Events for City of West Carrollton
REFRESH-INTERVAL;VALUE=DURATION:PT1H
X-Robots-Tag:noindex
X-PUBLISHED-TTL:PT1H
BEGIN:VTIMEZONE
TZID:America/New_York
BEGIN:DAYLIGHT
TZOFFSETFROM:-0500
TZOFFSETTO:-0400
TZNAME:EDT
DTSTART:20250309T070000
END:DAYLIGHT
BEGIN:STANDARD
TZOFFSETFROM:-0400
TZOFFSETTO:-0500
TZNAME:EST
DTSTART:20251102T060000
END:STANDARD
BEGIN:DAYLIGHT
TZOFFSETFROM:-0500
TZOFFSETTO:-0400
TZNAME:EDT
DTSTART:20260308T070000
END:DAYLIGHT
BEGIN:STANDARD
TZOFFSETFROM:-0400
TZOFFSETTO:-0500
TZNAME:EST
DTSTART:20261101T060000
END:STANDARD
BEGIN:DAYLIGHT
TZOFFSETFROM:-0500
TZOFFSETTO:-0400
TZNAME:EDT
DTSTART:20270314T070000
END:DAYLIGHT
BEGIN:STANDARD
TZOFFSETFROM:-0400
TZOFFSETTO:-0500
TZNAME:EST
DTSTART:20271107T060000
END:STANDARD
END:VTIMEZONE
BEGIN:VEVENT
DTSTART;TZID=America/New_York:20260428T183000
DTEND;TZID=America/New_York:20260428T183000
DTSTAMP:20260425T104847
CREATED:20231120T160920Z
LAST-MODIFIED:20251219T153914Z
UID:10000563-1777401000-1777401000@www.westcarrollton.org
SUMMARY:City Council Meeting
DESCRIPTION:To discuss items on the agenda.  Meetings start at 6:30 p.m.
URL:https://www.westcarrollton.org/event/city-council-meeting-5-2/2026-04-28/
LOCATION:West Carrollton Civic Center\, 300 E. Central Ave.\, West Carrollton\, OH\, 45449\, United States
CATEGORIES:Upcoming Meetings
END:VEVENT
END:VCALENDAR