BEGIN:VCALENDAR
VERSION:2.0
PRODID:-//City of West Carrollton - ECPv6.15.20//NONSGML v1.0//EN
CALSCALE:GREGORIAN
METHOD:PUBLISH
X-WR-CALNAME:City of West Carrollton
X-ORIGINAL-URL:https://www.westcarrollton.org
X-WR-CALDESC:Events for City of West Carrollton
REFRESH-INTERVAL;VALUE=DURATION:PT1H
X-Robots-Tag:noindex
X-PUBLISHED-TTL:PT1H
BEGIN:VTIMEZONE
TZID:America/New_York
BEGIN:DAYLIGHT
TZOFFSETFROM:-0500
TZOFFSETTO:-0400
TZNAME:EDT
DTSTART:20290311T070000
END:DAYLIGHT
BEGIN:STANDARD
TZOFFSETFROM:-0400
TZOFFSETTO:-0500
TZNAME:EST
DTSTART:20291104T060000
END:STANDARD
BEGIN:DAYLIGHT
TZOFFSETFROM:-0500
TZOFFSETTO:-0400
TZNAME:EDT
DTSTART:20300310T070000
END:DAYLIGHT
BEGIN:STANDARD
TZOFFSETFROM:-0400
TZOFFSETTO:-0500
TZNAME:EST
DTSTART:20301103T060000
END:STANDARD
BEGIN:DAYLIGHT
TZOFFSETFROM:-0500
TZOFFSETTO:-0400
TZNAME:EDT
DTSTART:20310309T070000
END:DAYLIGHT
BEGIN:STANDARD
TZOFFSETFROM:-0400
TZOFFSETTO:-0500
TZNAME:EST
DTSTART:20311102T060000
END:STANDARD
END:VTIMEZONE
BEGIN:VEVENT
DTSTART;TZID=America/New_York:20300409T183000
DTEND;TZID=America/New_York:20300409T183000
DTSTAMP:20260424T200003
CREATED:20231120T151153Z
LAST-MODIFIED:20231120T162221Z
UID:10000884-1901989800-1901989800@www.westcarrollton.org
SUMMARY:City Council Meeting
DESCRIPTION:To discuss items on the agenda.  Meetings start at 6:30 p.m.
URL:https://www.westcarrollton.org/event/city-council-meeting-4/2030-04-09/
LOCATION:West Carrollton Civic Center\, 300 E. Central Ave.\, West Carrollton\, OH\, 45449\, United States
CATEGORIES:Upcoming Meetings
END:VEVENT
BEGIN:VEVENT
DTSTART;TZID=America/New_York:20300423T183000
DTEND;TZID=America/New_York:20300423T183000
DTSTAMP:20260424T200003
CREATED:20231120T160920Z
LAST-MODIFIED:20251219T153914Z
UID:10001036-1903199400-1903199400@www.westcarrollton.org
SUMMARY:City Council Meeting
DESCRIPTION:To discuss items on the agenda.  Meetings start at 6:30 p.m.
URL:https://www.westcarrollton.org/event/city-council-meeting-5-2/2030-04-23/
LOCATION:West Carrollton Civic Center\, 300 E. Central Ave.\, West Carrollton\, OH\, 45449\, United States
CATEGORIES:Upcoming Meetings
END:VEVENT
BEGIN:VEVENT
DTSTART;TZID=America/New_York:20300528T183000
DTEND;TZID=America/New_York:20300528T183000
DTSTAMP:20260424T200003
CREATED:20231120T160920Z
LAST-MODIFIED:20251219T153914Z
UID:10001037-1906223400-1906223400@www.westcarrollton.org
SUMMARY:City Council Meeting
DESCRIPTION:To discuss items on the agenda.  Meetings start at 6:30 p.m.
URL:https://www.westcarrollton.org/event/city-council-meeting-5-2/2030-05-28/
LOCATION:West Carrollton Civic Center\, 300 E. Central Ave.\, West Carrollton\, OH\, 45449\, United States
CATEGORIES:Upcoming Meetings
END:VEVENT
BEGIN:VEVENT
DTSTART;TZID=America/New_York:20300625T183000
DTEND;TZID=America/New_York:20300625T183000
DTSTAMP:20260424T200003
CREATED:20231120T160920Z
LAST-MODIFIED:20251219T153914Z
UID:10001038-1908642600-1908642600@www.westcarrollton.org
SUMMARY:City Council Meeting
DESCRIPTION:To discuss items on the agenda.  Meetings start at 6:30 p.m.
URL:https://www.westcarrollton.org/event/city-council-meeting-5-2/2030-06-25/
LOCATION:West Carrollton Civic Center\, 300 E. Central Ave.\, West Carrollton\, OH\, 45449\, United States
CATEGORIES:Upcoming Meetings
END:VEVENT
BEGIN:VEVENT
DTSTART;TZID=America/New_York:20300723T183000
DTEND;TZID=America/New_York:20300723T183000
DTSTAMP:20260424T200003
CREATED:20231120T160920Z
LAST-MODIFIED:20251219T153914Z
UID:10001039-1911061800-1911061800@www.westcarrollton.org
SUMMARY:City Council Meeting
DESCRIPTION:To discuss items on the agenda.  Meetings start at 6:30 p.m.
URL:https://www.westcarrollton.org/event/city-council-meeting-5-2/2030-07-23/
LOCATION:West Carrollton Civic Center\, 300 E. Central Ave.\, West Carrollton\, OH\, 45449\, United States
CATEGORIES:Upcoming Meetings
END:VEVENT
BEGIN:VEVENT
DTSTART;TZID=America/New_York:20300827T183000
DTEND;TZID=America/New_York:20300827T183000
DTSTAMP:20260424T200003
CREATED:20231120T160920Z
LAST-MODIFIED:20251219T153914Z
UID:10001040-1914085800-1914085800@www.westcarrollton.org
SUMMARY:City Council Meeting
DESCRIPTION:To discuss items on the agenda.  Meetings start at 6:30 p.m.
URL:https://www.westcarrollton.org/event/city-council-meeting-5-2/2030-08-27/
LOCATION:West Carrollton Civic Center\, 300 E. Central Ave.\, West Carrollton\, OH\, 45449\, United States
CATEGORIES:Upcoming Meetings
END:VEVENT
BEGIN:VEVENT
DTSTART;TZID=America/New_York:20300924T183000
DTEND;TZID=America/New_York:20300924T183000
DTSTAMP:20260424T200003
CREATED:20231120T160920Z
LAST-MODIFIED:20251219T153914Z
UID:10001041-1916505000-1916505000@www.westcarrollton.org
SUMMARY:City Council Meeting
DESCRIPTION:To discuss items on the agenda.  Meetings start at 6:30 p.m.
URL:https://www.westcarrollton.org/event/city-council-meeting-5-2/2030-09-24/
LOCATION:West Carrollton Civic Center\, 300 E. Central Ave.\, West Carrollton\, OH\, 45449\, United States
CATEGORIES:Upcoming Meetings
END:VEVENT
BEGIN:VEVENT
DTSTART;TZID=America/New_York:20301022T183000
DTEND;TZID=America/New_York:20301022T183000
DTSTAMP:20260424T200003
CREATED:20231120T160920Z
LAST-MODIFIED:20251219T153914Z
UID:10001042-1918924200-1918924200@www.westcarrollton.org
SUMMARY:City Council Meeting
DESCRIPTION:To discuss items on the agenda.  Meetings start at 6:30 p.m.
URL:https://www.westcarrollton.org/event/city-council-meeting-5-2/2030-10-22/
LOCATION:West Carrollton Civic Center\, 300 E. Central Ave.\, West Carrollton\, OH\, 45449\, United States
CATEGORIES:Upcoming Meetings
END:VEVENT
BEGIN:VEVENT
DTSTART;TZID=America/New_York:20301126T183000
DTEND;TZID=America/New_York:20301126T183000
DTSTAMP:20260424T200003
CREATED:20231120T160920Z
LAST-MODIFIED:20251219T153914Z
UID:10001043-1921948200-1921948200@www.westcarrollton.org
SUMMARY:City Council Meeting
DESCRIPTION:To discuss items on the agenda.  Meetings start at 6:30 p.m.
URL:https://www.westcarrollton.org/event/city-council-meeting-5-2/2030-11-26/
LOCATION:West Carrollton Civic Center\, 300 E. Central Ave.\, West Carrollton\, OH\, 45449\, United States
CATEGORIES:Upcoming Meetings
END:VEVENT
END:VCALENDAR