BEGIN:VCALENDAR
VERSION:2.0
PRODID:-//City of West Carrollton - ECPv6.15.20//NONSGML v1.0//EN
CALSCALE:GREGORIAN
METHOD:PUBLISH
X-WR-CALNAME:City of West Carrollton
X-ORIGINAL-URL:https://www.westcarrollton.org
X-WR-CALDESC:Events for City of West Carrollton
REFRESH-INTERVAL;VALUE=DURATION:PT1H
X-Robots-Tag:noindex
X-PUBLISHED-TTL:PT1H
BEGIN:VTIMEZONE
TZID:America/New_York
BEGIN:DAYLIGHT
TZOFFSETFROM:-0500
TZOFFSETTO:-0400
TZNAME:EDT
DTSTART:20280312T070000
END:DAYLIGHT
BEGIN:STANDARD
TZOFFSETFROM:-0400
TZOFFSETTO:-0500
TZNAME:EST
DTSTART:20281105T060000
END:STANDARD
BEGIN:DAYLIGHT
TZOFFSETFROM:-0500
TZOFFSETTO:-0400
TZNAME:EDT
DTSTART:20290311T070000
END:DAYLIGHT
BEGIN:STANDARD
TZOFFSETFROM:-0400
TZOFFSETTO:-0500
TZNAME:EST
DTSTART:20291104T060000
END:STANDARD
BEGIN:DAYLIGHT
TZOFFSETFROM:-0500
TZOFFSETTO:-0400
TZNAME:EDT
DTSTART:20300310T070000
END:DAYLIGHT
BEGIN:STANDARD
TZOFFSETFROM:-0400
TZOFFSETTO:-0500
TZNAME:EST
DTSTART:20301103T060000
END:STANDARD
BEGIN:DAYLIGHT
TZOFFSETFROM:-0500
TZOFFSETTO:-0400
TZNAME:EDT
DTSTART:20310309T070000
END:DAYLIGHT
BEGIN:STANDARD
TZOFFSETFROM:-0400
TZOFFSETTO:-0500
TZNAME:EST
DTSTART:20311102T060000
END:STANDARD
END:VTIMEZONE
BEGIN:VEVENT
DTSTART;TZID=America/New_York:20290410T183000
DTEND;TZID=America/New_York:20290410T183000
DTSTAMP:20260424T170415
CREATED:20231120T151153Z
LAST-MODIFIED:20231120T162221Z
UID:10000675-1870540200-1870540200@www.westcarrollton.org
SUMMARY:City Council Meeting
DESCRIPTION:To discuss items on the agenda.  Meetings start at 6:30 p.m.
URL:https://www.westcarrollton.org/event/city-council-meeting-4/2029-04-10/
LOCATION:West Carrollton Civic Center\, 300 E. Central Ave.\, West Carrollton\, OH\, 45449\, United States
CATEGORIES:Upcoming Meetings
END:VEVENT
BEGIN:VEVENT
DTSTART;TZID=America/New_York:20290424T183000
DTEND;TZID=America/New_York:20290424T183000
DTSTAMP:20260424T170415
CREATED:20231120T160920Z
LAST-MODIFIED:20251219T153914Z
UID:10001024-1871749800-1871749800@www.westcarrollton.org
SUMMARY:City Council Meeting
DESCRIPTION:To discuss items on the agenda.  Meetings start at 6:30 p.m.
URL:https://www.westcarrollton.org/event/city-council-meeting-5-2/2029-04-24/
LOCATION:West Carrollton Civic Center\, 300 E. Central Ave.\, West Carrollton\, OH\, 45449\, United States
CATEGORIES:Upcoming Meetings
END:VEVENT
BEGIN:VEVENT
DTSTART;TZID=America/New_York:20290508T183000
DTEND;TZID=America/New_York:20290508T183000
DTSTAMP:20260424T170415
CREATED:20231120T151153Z
LAST-MODIFIED:20231120T162221Z
UID:10000676-1872959400-1872959400@www.westcarrollton.org
SUMMARY:City Council Meeting
DESCRIPTION:To discuss items on the agenda.  Meetings start at 6:30 p.m.
URL:https://www.westcarrollton.org/event/city-council-meeting-4/2029-05-08/
LOCATION:West Carrollton Civic Center\, 300 E. Central Ave.\, West Carrollton\, OH\, 45449\, United States
CATEGORIES:Upcoming Meetings
END:VEVENT
BEGIN:VEVENT
DTSTART;TZID=America/New_York:20290522T183000
DTEND;TZID=America/New_York:20290522T183000
DTSTAMP:20260424T170415
CREATED:20231120T160920Z
LAST-MODIFIED:20251219T153914Z
UID:10001025-1874169000-1874169000@www.westcarrollton.org
SUMMARY:City Council Meeting
DESCRIPTION:To discuss items on the agenda.  Meetings start at 6:30 p.m.
URL:https://www.westcarrollton.org/event/city-council-meeting-5-2/2029-05-22/
LOCATION:West Carrollton Civic Center\, 300 E. Central Ave.\, West Carrollton\, OH\, 45449\, United States
CATEGORIES:Upcoming Meetings
END:VEVENT
BEGIN:VEVENT
DTSTART;TZID=America/New_York:20290612T183000
DTEND;TZID=America/New_York:20290612T183000
DTSTAMP:20260424T170415
CREATED:20231120T151153Z
LAST-MODIFIED:20231120T162221Z
UID:10000874-1875983400-1875983400@www.westcarrollton.org
SUMMARY:City Council Meeting
DESCRIPTION:To discuss items on the agenda.  Meetings start at 6:30 p.m.
URL:https://www.westcarrollton.org/event/city-council-meeting-4/2029-06-12/
LOCATION:West Carrollton Civic Center\, 300 E. Central Ave.\, West Carrollton\, OH\, 45449\, United States
CATEGORIES:Upcoming Meetings
END:VEVENT
BEGIN:VEVENT
DTSTART;TZID=America/New_York:20290626T183000
DTEND;TZID=America/New_York:20290626T183000
DTSTAMP:20260424T170415
CREATED:20231120T160920Z
LAST-MODIFIED:20251219T153914Z
UID:10001026-1877193000-1877193000@www.westcarrollton.org
SUMMARY:City Council Meeting
DESCRIPTION:To discuss items on the agenda.  Meetings start at 6:30 p.m.
URL:https://www.westcarrollton.org/event/city-council-meeting-5-2/2029-06-26/
LOCATION:West Carrollton Civic Center\, 300 E. Central Ave.\, West Carrollton\, OH\, 45449\, United States
CATEGORIES:Upcoming Meetings
END:VEVENT
BEGIN:VEVENT
DTSTART;TZID=America/New_York:20290710T183000
DTEND;TZID=America/New_York:20290710T183000
DTSTAMP:20260424T170415
CREATED:20231120T151153Z
LAST-MODIFIED:20231120T162221Z
UID:10000875-1878402600-1878402600@www.westcarrollton.org
SUMMARY:City Council Meeting
DESCRIPTION:To discuss items on the agenda.  Meetings start at 6:30 p.m.
URL:https://www.westcarrollton.org/event/city-council-meeting-4/2029-07-10/
LOCATION:West Carrollton Civic Center\, 300 E. Central Ave.\, West Carrollton\, OH\, 45449\, United States
CATEGORIES:Upcoming Meetings
END:VEVENT
BEGIN:VEVENT
DTSTART;TZID=America/New_York:20290724T183000
DTEND;TZID=America/New_York:20290724T183000
DTSTAMP:20260424T170415
CREATED:20231120T160920Z
LAST-MODIFIED:20251219T153914Z
UID:10001027-1879612200-1879612200@www.westcarrollton.org
SUMMARY:City Council Meeting
DESCRIPTION:To discuss items on the agenda.  Meetings start at 6:30 p.m.
URL:https://www.westcarrollton.org/event/city-council-meeting-5-2/2029-07-24/
LOCATION:West Carrollton Civic Center\, 300 E. Central Ave.\, West Carrollton\, OH\, 45449\, United States
CATEGORIES:Upcoming Meetings
END:VEVENT
BEGIN:VEVENT
DTSTART;TZID=America/New_York:20290814T183000
DTEND;TZID=America/New_York:20290814T183000
DTSTAMP:20260424T170415
CREATED:20231120T151153Z
LAST-MODIFIED:20231120T162221Z
UID:10000876-1881426600-1881426600@www.westcarrollton.org
SUMMARY:City Council Meeting
DESCRIPTION:To discuss items on the agenda.  Meetings start at 6:30 p.m.
URL:https://www.westcarrollton.org/event/city-council-meeting-4/2029-08-14/
LOCATION:West Carrollton Civic Center\, 300 E. Central Ave.\, West Carrollton\, OH\, 45449\, United States
CATEGORIES:Upcoming Meetings
END:VEVENT
BEGIN:VEVENT
DTSTART;TZID=America/New_York:20290828T183000
DTEND;TZID=America/New_York:20290828T183000
DTSTAMP:20260424T170415
CREATED:20231120T160920Z
LAST-MODIFIED:20251219T153914Z
UID:10001028-1882636200-1882636200@www.westcarrollton.org
SUMMARY:City Council Meeting
DESCRIPTION:To discuss items on the agenda.  Meetings start at 6:30 p.m.
URL:https://www.westcarrollton.org/event/city-council-meeting-5-2/2029-08-28/
LOCATION:West Carrollton Civic Center\, 300 E. Central Ave.\, West Carrollton\, OH\, 45449\, United States
CATEGORIES:Upcoming Meetings
END:VEVENT
BEGIN:VEVENT
DTSTART;TZID=America/New_York:20290911T183000
DTEND;TZID=America/New_York:20290911T183000
DTSTAMP:20260424T170415
CREATED:20231120T151153Z
LAST-MODIFIED:20231120T162221Z
UID:10000877-1883845800-1883845800@www.westcarrollton.org
SUMMARY:City Council Meeting
DESCRIPTION:To discuss items on the agenda.  Meetings start at 6:30 p.m.
URL:https://www.westcarrollton.org/event/city-council-meeting-4/2029-09-11/
LOCATION:West Carrollton Civic Center\, 300 E. Central Ave.\, West Carrollton\, OH\, 45449\, United States
CATEGORIES:Upcoming Meetings
END:VEVENT
BEGIN:VEVENT
DTSTART;TZID=America/New_York:20290925T183000
DTEND;TZID=America/New_York:20290925T183000
DTSTAMP:20260424T170415
CREATED:20231120T160920Z
LAST-MODIFIED:20251219T153914Z
UID:10001029-1885055400-1885055400@www.westcarrollton.org
SUMMARY:City Council Meeting
DESCRIPTION:To discuss items on the agenda.  Meetings start at 6:30 p.m.
URL:https://www.westcarrollton.org/event/city-council-meeting-5-2/2029-09-25/
LOCATION:West Carrollton Civic Center\, 300 E. Central Ave.\, West Carrollton\, OH\, 45449\, United States
CATEGORIES:Upcoming Meetings
END:VEVENT
BEGIN:VEVENT
DTSTART;TZID=America/New_York:20291009T183000
DTEND;TZID=America/New_York:20291009T183000
DTSTAMP:20260424T170415
CREATED:20231120T151153Z
LAST-MODIFIED:20231120T162221Z
UID:10000878-1886265000-1886265000@www.westcarrollton.org
SUMMARY:City Council Meeting
DESCRIPTION:To discuss items on the agenda.  Meetings start at 6:30 p.m.
URL:https://www.westcarrollton.org/event/city-council-meeting-4/2029-10-09/
LOCATION:West Carrollton Civic Center\, 300 E. Central Ave.\, West Carrollton\, OH\, 45449\, United States
CATEGORIES:Upcoming Meetings
END:VEVENT
BEGIN:VEVENT
DTSTART;TZID=America/New_York:20291023T183000
DTEND;TZID=America/New_York:20291023T183000
DTSTAMP:20260424T170415
CREATED:20231120T160920Z
LAST-MODIFIED:20251219T153914Z
UID:10001030-1887474600-1887474600@www.westcarrollton.org
SUMMARY:City Council Meeting
DESCRIPTION:To discuss items on the agenda.  Meetings start at 6:30 p.m.
URL:https://www.westcarrollton.org/event/city-council-meeting-5-2/2029-10-23/
LOCATION:West Carrollton Civic Center\, 300 E. Central Ave.\, West Carrollton\, OH\, 45449\, United States
CATEGORIES:Upcoming Meetings
END:VEVENT
BEGIN:VEVENT
DTSTART;TZID=America/New_York:20291113T183000
DTEND;TZID=America/New_York:20291113T183000
DTSTAMP:20260424T170415
CREATED:20231120T151153Z
LAST-MODIFIED:20231120T162221Z
UID:10000879-1889289000-1889289000@www.westcarrollton.org
SUMMARY:City Council Meeting
DESCRIPTION:To discuss items on the agenda.  Meetings start at 6:30 p.m.
URL:https://www.westcarrollton.org/event/city-council-meeting-4/2029-11-13/
LOCATION:West Carrollton Civic Center\, 300 E. Central Ave.\, West Carrollton\, OH\, 45449\, United States
CATEGORIES:Upcoming Meetings
END:VEVENT
BEGIN:VEVENT
DTSTART;TZID=America/New_York:20291127T183000
DTEND;TZID=America/New_York:20291127T183000
DTSTAMP:20260424T170415
CREATED:20231120T160920Z
LAST-MODIFIED:20251219T153914Z
UID:10001031-1890498600-1890498600@www.westcarrollton.org
SUMMARY:City Council Meeting
DESCRIPTION:To discuss items on the agenda.  Meetings start at 6:30 p.m.
URL:https://www.westcarrollton.org/event/city-council-meeting-5-2/2029-11-27/
LOCATION:West Carrollton Civic Center\, 300 E. Central Ave.\, West Carrollton\, OH\, 45449\, United States
CATEGORIES:Upcoming Meetings
END:VEVENT
BEGIN:VEVENT
DTSTART;TZID=America/New_York:20291211T183000
DTEND;TZID=America/New_York:20291211T183000
DTSTAMP:20260424T170415
CREATED:20231120T151153Z
LAST-MODIFIED:20231120T162221Z
UID:10000880-1891708200-1891708200@www.westcarrollton.org
SUMMARY:City Council Meeting
DESCRIPTION:To discuss items on the agenda.  Meetings start at 6:30 p.m.
URL:https://www.westcarrollton.org/event/city-council-meeting-4/2029-12-11/
LOCATION:West Carrollton Civic Center\, 300 E. Central Ave.\, West Carrollton\, OH\, 45449\, United States
CATEGORIES:Upcoming Meetings
END:VEVENT
BEGIN:VEVENT
DTSTART;TZID=America/New_York:20291225T183000
DTEND;TZID=America/New_York:20291225T183000
DTSTAMP:20260424T170415
CREATED:20231120T160920Z
LAST-MODIFIED:20251219T153914Z
UID:10001032-1892917800-1892917800@www.westcarrollton.org
SUMMARY:City Council Meeting
DESCRIPTION:To discuss items on the agenda.  Meetings start at 6:30 p.m.
URL:https://www.westcarrollton.org/event/city-council-meeting-5-2/2029-12-25/
LOCATION:West Carrollton Civic Center\, 300 E. Central Ave.\, West Carrollton\, OH\, 45449\, United States
CATEGORIES:Upcoming Meetings
END:VEVENT
BEGIN:VEVENT
DTSTART;TZID=America/New_York:20300108T183000
DTEND;TZID=America/New_York:20300108T183000
DTSTAMP:20260424T170415
CREATED:20231120T151153Z
LAST-MODIFIED:20231120T162221Z
UID:10000881-1894127400-1894127400@www.westcarrollton.org
SUMMARY:City Council Meeting
DESCRIPTION:To discuss items on the agenda.  Meetings start at 6:30 p.m.
URL:https://www.westcarrollton.org/event/city-council-meeting-4/2030-01-08/
LOCATION:West Carrollton Civic Center\, 300 E. Central Ave.\, West Carrollton\, OH\, 45449\, United States
CATEGORIES:Upcoming Meetings
END:VEVENT
BEGIN:VEVENT
DTSTART;TZID=America/New_York:20300122T183000
DTEND;TZID=America/New_York:20300122T183000
DTSTAMP:20260424T170415
CREATED:20231120T160920Z
LAST-MODIFIED:20251219T153914Z
UID:10001033-1895337000-1895337000@www.westcarrollton.org
SUMMARY:City Council Meeting
DESCRIPTION:To discuss items on the agenda.  Meetings start at 6:30 p.m.
URL:https://www.westcarrollton.org/event/city-council-meeting-5-2/2030-01-22/
LOCATION:West Carrollton Civic Center\, 300 E. Central Ave.\, West Carrollton\, OH\, 45449\, United States
CATEGORIES:Upcoming Meetings
END:VEVENT
BEGIN:VEVENT
DTSTART;TZID=America/New_York:20300212T183000
DTEND;TZID=America/New_York:20300212T183000
DTSTAMP:20260424T170415
CREATED:20231120T151153Z
LAST-MODIFIED:20231120T162221Z
UID:10000882-1897151400-1897151400@www.westcarrollton.org
SUMMARY:City Council Meeting
DESCRIPTION:To discuss items on the agenda.  Meetings start at 6:30 p.m.
URL:https://www.westcarrollton.org/event/city-council-meeting-4/2030-02-12/
LOCATION:West Carrollton Civic Center\, 300 E. Central Ave.\, West Carrollton\, OH\, 45449\, United States
CATEGORIES:Upcoming Meetings
END:VEVENT
BEGIN:VEVENT
DTSTART;TZID=America/New_York:20300226T183000
DTEND;TZID=America/New_York:20300226T183000
DTSTAMP:20260424T170415
CREATED:20231120T160920Z
LAST-MODIFIED:20251219T153914Z
UID:10001034-1898361000-1898361000@www.westcarrollton.org
SUMMARY:City Council Meeting
DESCRIPTION:To discuss items on the agenda.  Meetings start at 6:30 p.m.
URL:https://www.westcarrollton.org/event/city-council-meeting-5-2/2030-02-26/
LOCATION:West Carrollton Civic Center\, 300 E. Central Ave.\, West Carrollton\, OH\, 45449\, United States
CATEGORIES:Upcoming Meetings
END:VEVENT
BEGIN:VEVENT
DTSTART;TZID=America/New_York:20300312T183000
DTEND;TZID=America/New_York:20300312T183000
DTSTAMP:20260424T170415
CREATED:20231120T151153Z
LAST-MODIFIED:20231120T162221Z
UID:10000883-1899570600-1899570600@www.westcarrollton.org
SUMMARY:City Council Meeting
DESCRIPTION:To discuss items on the agenda.  Meetings start at 6:30 p.m.
URL:https://www.westcarrollton.org/event/city-council-meeting-4/2030-03-12/
LOCATION:West Carrollton Civic Center\, 300 E. Central Ave.\, West Carrollton\, OH\, 45449\, United States
CATEGORIES:Upcoming Meetings
END:VEVENT
BEGIN:VEVENT
DTSTART;TZID=America/New_York:20300326T183000
DTEND;TZID=America/New_York:20300326T183000
DTSTAMP:20260424T170415
CREATED:20231120T160920Z
LAST-MODIFIED:20251219T153914Z
UID:10001035-1900780200-1900780200@www.westcarrollton.org
SUMMARY:City Council Meeting
DESCRIPTION:To discuss items on the agenda.  Meetings start at 6:30 p.m.
URL:https://www.westcarrollton.org/event/city-council-meeting-5-2/2030-03-26/
LOCATION:West Carrollton Civic Center\, 300 E. Central Ave.\, West Carrollton\, OH\, 45449\, United States
CATEGORIES:Upcoming Meetings
END:VEVENT
BEGIN:VEVENT
DTSTART;TZID=America/New_York:20300409T183000
DTEND;TZID=America/New_York:20300409T183000
DTSTAMP:20260424T170415
CREATED:20231120T151153Z
LAST-MODIFIED:20231120T162221Z
UID:10000884-1901989800-1901989800@www.westcarrollton.org
SUMMARY:City Council Meeting
DESCRIPTION:To discuss items on the agenda.  Meetings start at 6:30 p.m.
URL:https://www.westcarrollton.org/event/city-council-meeting-4/2030-04-09/
LOCATION:West Carrollton Civic Center\, 300 E. Central Ave.\, West Carrollton\, OH\, 45449\, United States
CATEGORIES:Upcoming Meetings
END:VEVENT
BEGIN:VEVENT
DTSTART;TZID=America/New_York:20300423T183000
DTEND;TZID=America/New_York:20300423T183000
DTSTAMP:20260424T170415
CREATED:20231120T160920Z
LAST-MODIFIED:20251219T153914Z
UID:10001036-1903199400-1903199400@www.westcarrollton.org
SUMMARY:City Council Meeting
DESCRIPTION:To discuss items on the agenda.  Meetings start at 6:30 p.m.
URL:https://www.westcarrollton.org/event/city-council-meeting-5-2/2030-04-23/
LOCATION:West Carrollton Civic Center\, 300 E. Central Ave.\, West Carrollton\, OH\, 45449\, United States
CATEGORIES:Upcoming Meetings
END:VEVENT
BEGIN:VEVENT
DTSTART;TZID=America/New_York:20300528T183000
DTEND;TZID=America/New_York:20300528T183000
DTSTAMP:20260424T170415
CREATED:20231120T160920Z
LAST-MODIFIED:20251219T153914Z
UID:10001037-1906223400-1906223400@www.westcarrollton.org
SUMMARY:City Council Meeting
DESCRIPTION:To discuss items on the agenda.  Meetings start at 6:30 p.m.
URL:https://www.westcarrollton.org/event/city-council-meeting-5-2/2030-05-28/
LOCATION:West Carrollton Civic Center\, 300 E. Central Ave.\, West Carrollton\, OH\, 45449\, United States
CATEGORIES:Upcoming Meetings
END:VEVENT
BEGIN:VEVENT
DTSTART;TZID=America/New_York:20300625T183000
DTEND;TZID=America/New_York:20300625T183000
DTSTAMP:20260424T170415
CREATED:20231120T160920Z
LAST-MODIFIED:20251219T153914Z
UID:10001038-1908642600-1908642600@www.westcarrollton.org
SUMMARY:City Council Meeting
DESCRIPTION:To discuss items on the agenda.  Meetings start at 6:30 p.m.
URL:https://www.westcarrollton.org/event/city-council-meeting-5-2/2030-06-25/
LOCATION:West Carrollton Civic Center\, 300 E. Central Ave.\, West Carrollton\, OH\, 45449\, United States
CATEGORIES:Upcoming Meetings
END:VEVENT
BEGIN:VEVENT
DTSTART;TZID=America/New_York:20300723T183000
DTEND;TZID=America/New_York:20300723T183000
DTSTAMP:20260424T170415
CREATED:20231120T160920Z
LAST-MODIFIED:20251219T153914Z
UID:10001039-1911061800-1911061800@www.westcarrollton.org
SUMMARY:City Council Meeting
DESCRIPTION:To discuss items on the agenda.  Meetings start at 6:30 p.m.
URL:https://www.westcarrollton.org/event/city-council-meeting-5-2/2030-07-23/
LOCATION:West Carrollton Civic Center\, 300 E. Central Ave.\, West Carrollton\, OH\, 45449\, United States
CATEGORIES:Upcoming Meetings
END:VEVENT
BEGIN:VEVENT
DTSTART;TZID=America/New_York:20300827T183000
DTEND;TZID=America/New_York:20300827T183000
DTSTAMP:20260424T170415
CREATED:20231120T160920Z
LAST-MODIFIED:20251219T153914Z
UID:10001040-1914085800-1914085800@www.westcarrollton.org
SUMMARY:City Council Meeting
DESCRIPTION:To discuss items on the agenda.  Meetings start at 6:30 p.m.
URL:https://www.westcarrollton.org/event/city-council-meeting-5-2/2030-08-27/
LOCATION:West Carrollton Civic Center\, 300 E. Central Ave.\, West Carrollton\, OH\, 45449\, United States
CATEGORIES:Upcoming Meetings
END:VEVENT
END:VCALENDAR