BEGIN:VCALENDAR
VERSION:2.0
PRODID:-//City of West Carrollton - ECPv6.15.20//NONSGML v1.0//EN
CALSCALE:GREGORIAN
METHOD:PUBLISH
X-WR-CALNAME:City of West Carrollton
X-ORIGINAL-URL:https://www.westcarrollton.org
X-WR-CALDESC:Events for City of West Carrollton
REFRESH-INTERVAL;VALUE=DURATION:PT1H
X-Robots-Tag:noindex
X-PUBLISHED-TTL:PT1H
BEGIN:VTIMEZONE
TZID:America/New_York
BEGIN:DAYLIGHT
TZOFFSETFROM:-0500
TZOFFSETTO:-0400
TZNAME:EDT
DTSTART:20270314T070000
END:DAYLIGHT
BEGIN:STANDARD
TZOFFSETFROM:-0400
TZOFFSETTO:-0500
TZNAME:EST
DTSTART:20271107T060000
END:STANDARD
BEGIN:DAYLIGHT
TZOFFSETFROM:-0500
TZOFFSETTO:-0400
TZNAME:EDT
DTSTART:20280312T070000
END:DAYLIGHT
BEGIN:STANDARD
TZOFFSETFROM:-0400
TZOFFSETTO:-0500
TZNAME:EST
DTSTART:20281105T060000
END:STANDARD
BEGIN:DAYLIGHT
TZOFFSETFROM:-0500
TZOFFSETTO:-0400
TZNAME:EDT
DTSTART:20290311T070000
END:DAYLIGHT
BEGIN:STANDARD
TZOFFSETFROM:-0400
TZOFFSETTO:-0500
TZNAME:EST
DTSTART:20291104T060000
END:STANDARD
BEGIN:DAYLIGHT
TZOFFSETFROM:-0500
TZOFFSETTO:-0400
TZNAME:EDT
DTSTART:20300310T070000
END:DAYLIGHT
BEGIN:STANDARD
TZOFFSETFROM:-0400
TZOFFSETTO:-0500
TZNAME:EST
DTSTART:20301103T060000
END:STANDARD
END:VTIMEZONE
BEGIN:VEVENT
DTSTART;TZID=America/New_York:20280411T183000
DTEND;TZID=America/New_York:20280411T183000
DTSTAMP:20260424T143830
CREATED:20231120T151153Z
LAST-MODIFIED:20231120T162221Z
UID:10000529-1839090600-1839090600@www.westcarrollton.org
SUMMARY:City Council Meeting
DESCRIPTION:To discuss items on the agenda.  Meetings start at 6:30 p.m.
URL:https://www.westcarrollton.org/event/city-council-meeting-4/2028-04-11/
LOCATION:West Carrollton Civic Center\, 300 E. Central Ave.\, West Carrollton\, OH\, 45449\, United States
CATEGORIES:Upcoming Meetings
END:VEVENT
BEGIN:VEVENT
DTSTART;TZID=America/New_York:20280425T183000
DTEND;TZID=America/New_York:20280425T183000
DTSTAMP:20260424T143830
CREATED:20231120T160920Z
LAST-MODIFIED:20251219T153914Z
UID:10000587-1840300200-1840300200@www.westcarrollton.org
SUMMARY:City Council Meeting
DESCRIPTION:To discuss items on the agenda.  Meetings start at 6:30 p.m.
URL:https://www.westcarrollton.org/event/city-council-meeting-5-2/2028-04-25/
LOCATION:West Carrollton Civic Center\, 300 E. Central Ave.\, West Carrollton\, OH\, 45449\, United States
CATEGORIES:Upcoming Meetings
END:VEVENT
BEGIN:VEVENT
DTSTART;TZID=America/New_York:20280509T183000
DTEND;TZID=America/New_York:20280509T183000
DTSTAMP:20260424T143830
CREATED:20231120T151153Z
LAST-MODIFIED:20231120T162221Z
UID:10000530-1841509800-1841509800@www.westcarrollton.org
SUMMARY:City Council Meeting
DESCRIPTION:To discuss items on the agenda.  Meetings start at 6:30 p.m.
URL:https://www.westcarrollton.org/event/city-council-meeting-4/2028-05-09/
LOCATION:West Carrollton Civic Center\, 300 E. Central Ave.\, West Carrollton\, OH\, 45449\, United States
CATEGORIES:Upcoming Meetings
END:VEVENT
BEGIN:VEVENT
DTSTART;TZID=America/New_York:20280523T183000
DTEND;TZID=America/New_York:20280523T183000
DTSTAMP:20260424T143830
CREATED:20231120T160920Z
LAST-MODIFIED:20251219T153914Z
UID:10000588-1842719400-1842719400@www.westcarrollton.org
SUMMARY:City Council Meeting
DESCRIPTION:To discuss items on the agenda.  Meetings start at 6:30 p.m.
URL:https://www.westcarrollton.org/event/city-council-meeting-5-2/2028-05-23/
LOCATION:West Carrollton Civic Center\, 300 E. Central Ave.\, West Carrollton\, OH\, 45449\, United States
CATEGORIES:Upcoming Meetings
END:VEVENT
BEGIN:VEVENT
DTSTART;TZID=America/New_York:20280613T183000
DTEND;TZID=America/New_York:20280613T183000
DTSTAMP:20260424T143830
CREATED:20231120T151153Z
LAST-MODIFIED:20231120T162221Z
UID:10000531-1844533800-1844533800@www.westcarrollton.org
SUMMARY:City Council Meeting
DESCRIPTION:To discuss items on the agenda.  Meetings start at 6:30 p.m.
URL:https://www.westcarrollton.org/event/city-council-meeting-4/2028-06-13/
LOCATION:West Carrollton Civic Center\, 300 E. Central Ave.\, West Carrollton\, OH\, 45449\, United States
CATEGORIES:Upcoming Meetings
END:VEVENT
BEGIN:VEVENT
DTSTART;TZID=America/New_York:20280627T183000
DTEND;TZID=America/New_York:20280627T183000
DTSTAMP:20260424T143830
CREATED:20231120T160920Z
LAST-MODIFIED:20251219T153914Z
UID:10000589-1845743400-1845743400@www.westcarrollton.org
SUMMARY:City Council Meeting
DESCRIPTION:To discuss items on the agenda.  Meetings start at 6:30 p.m.
URL:https://www.westcarrollton.org/event/city-council-meeting-5-2/2028-06-27/
LOCATION:West Carrollton Civic Center\, 300 E. Central Ave.\, West Carrollton\, OH\, 45449\, United States
CATEGORIES:Upcoming Meetings
END:VEVENT
BEGIN:VEVENT
DTSTART;TZID=America/New_York:20280711T183000
DTEND;TZID=America/New_York:20280711T183000
DTSTAMP:20260424T143830
CREATED:20231120T151153Z
LAST-MODIFIED:20231120T162221Z
UID:10000532-1846953000-1846953000@www.westcarrollton.org
SUMMARY:City Council Meeting
DESCRIPTION:To discuss items on the agenda.  Meetings start at 6:30 p.m.
URL:https://www.westcarrollton.org/event/city-council-meeting-4/2028-07-11/
LOCATION:West Carrollton Civic Center\, 300 E. Central Ave.\, West Carrollton\, OH\, 45449\, United States
CATEGORIES:Upcoming Meetings
END:VEVENT
BEGIN:VEVENT
DTSTART;TZID=America/New_York:20280725T183000
DTEND;TZID=America/New_York:20280725T183000
DTSTAMP:20260424T143830
CREATED:20231120T160920Z
LAST-MODIFIED:20251219T153914Z
UID:10000590-1848162600-1848162600@www.westcarrollton.org
SUMMARY:City Council Meeting
DESCRIPTION:To discuss items on the agenda.  Meetings start at 6:30 p.m.
URL:https://www.westcarrollton.org/event/city-council-meeting-5-2/2028-07-25/
LOCATION:West Carrollton Civic Center\, 300 E. Central Ave.\, West Carrollton\, OH\, 45449\, United States
CATEGORIES:Upcoming Meetings
END:VEVENT
BEGIN:VEVENT
DTSTART;TZID=America/New_York:20280808T183000
DTEND;TZID=America/New_York:20280808T183000
DTSTAMP:20260424T143830
CREATED:20231120T151153Z
LAST-MODIFIED:20231120T162221Z
UID:10000533-1849372200-1849372200@www.westcarrollton.org
SUMMARY:City Council Meeting
DESCRIPTION:To discuss items on the agenda.  Meetings start at 6:30 p.m.
URL:https://www.westcarrollton.org/event/city-council-meeting-4/2028-08-08/
LOCATION:West Carrollton Civic Center\, 300 E. Central Ave.\, West Carrollton\, OH\, 45449\, United States
CATEGORIES:Upcoming Meetings
END:VEVENT
BEGIN:VEVENT
DTSTART;TZID=America/New_York:20280822T183000
DTEND;TZID=America/New_York:20280822T183000
DTSTAMP:20260424T143830
CREATED:20231120T160920Z
LAST-MODIFIED:20251219T153914Z
UID:10000591-1850581800-1850581800@www.westcarrollton.org
SUMMARY:City Council Meeting
DESCRIPTION:To discuss items on the agenda.  Meetings start at 6:30 p.m.
URL:https://www.westcarrollton.org/event/city-council-meeting-5-2/2028-08-22/
LOCATION:West Carrollton Civic Center\, 300 E. Central Ave.\, West Carrollton\, OH\, 45449\, United States
CATEGORIES:Upcoming Meetings
END:VEVENT
BEGIN:VEVENT
DTSTART;TZID=America/New_York:20280912T183000
DTEND;TZID=America/New_York:20280912T183000
DTSTAMP:20260424T143830
CREATED:20231120T151153Z
LAST-MODIFIED:20231120T162221Z
UID:10000534-1852396200-1852396200@www.westcarrollton.org
SUMMARY:City Council Meeting
DESCRIPTION:To discuss items on the agenda.  Meetings start at 6:30 p.m.
URL:https://www.westcarrollton.org/event/city-council-meeting-4/2028-09-12/
LOCATION:West Carrollton Civic Center\, 300 E. Central Ave.\, West Carrollton\, OH\, 45449\, United States
CATEGORIES:Upcoming Meetings
END:VEVENT
BEGIN:VEVENT
DTSTART;TZID=America/New_York:20280926T183000
DTEND;TZID=America/New_York:20280926T183000
DTSTAMP:20260424T143830
CREATED:20231120T160920Z
LAST-MODIFIED:20251219T153914Z
UID:10000592-1853605800-1853605800@www.westcarrollton.org
SUMMARY:City Council Meeting
DESCRIPTION:To discuss items on the agenda.  Meetings start at 6:30 p.m.
URL:https://www.westcarrollton.org/event/city-council-meeting-5-2/2028-09-26/
LOCATION:West Carrollton Civic Center\, 300 E. Central Ave.\, West Carrollton\, OH\, 45449\, United States
CATEGORIES:Upcoming Meetings
END:VEVENT
BEGIN:VEVENT
DTSTART;TZID=America/New_York:20281010T183000
DTEND;TZID=America/New_York:20281010T183000
DTSTAMP:20260424T143830
CREATED:20231120T151153Z
LAST-MODIFIED:20231120T162221Z
UID:10000535-1854815400-1854815400@www.westcarrollton.org
SUMMARY:City Council Meeting
DESCRIPTION:To discuss items on the agenda.  Meetings start at 6:30 p.m.
URL:https://www.westcarrollton.org/event/city-council-meeting-4/2028-10-10/
LOCATION:West Carrollton Civic Center\, 300 E. Central Ave.\, West Carrollton\, OH\, 45449\, United States
CATEGORIES:Upcoming Meetings
END:VEVENT
BEGIN:VEVENT
DTSTART;TZID=America/New_York:20281024T183000
DTEND;TZID=America/New_York:20281024T183000
DTSTAMP:20260424T143830
CREATED:20231120T160920Z
LAST-MODIFIED:20251219T153914Z
UID:10000593-1856025000-1856025000@www.westcarrollton.org
SUMMARY:City Council Meeting
DESCRIPTION:To discuss items on the agenda.  Meetings start at 6:30 p.m.
URL:https://www.westcarrollton.org/event/city-council-meeting-5-2/2028-10-24/
LOCATION:West Carrollton Civic Center\, 300 E. Central Ave.\, West Carrollton\, OH\, 45449\, United States
CATEGORIES:Upcoming Meetings
END:VEVENT
BEGIN:VEVENT
DTSTART;TZID=America/New_York:20281114T183000
DTEND;TZID=America/New_York:20281114T183000
DTSTAMP:20260424T143830
CREATED:20231120T151153Z
LAST-MODIFIED:20231120T162221Z
UID:10000536-1857839400-1857839400@www.westcarrollton.org
SUMMARY:City Council Meeting
DESCRIPTION:To discuss items on the agenda.  Meetings start at 6:30 p.m.
URL:https://www.westcarrollton.org/event/city-council-meeting-4/2028-11-14/
LOCATION:West Carrollton Civic Center\, 300 E. Central Ave.\, West Carrollton\, OH\, 45449\, United States
CATEGORIES:Upcoming Meetings
END:VEVENT
BEGIN:VEVENT
DTSTART;TZID=America/New_York:20281128T183000
DTEND;TZID=America/New_York:20281128T183000
DTSTAMP:20260424T143830
CREATED:20231120T160920Z
LAST-MODIFIED:20251219T153914Z
UID:10001019-1859049000-1859049000@www.westcarrollton.org
SUMMARY:City Council Meeting
DESCRIPTION:To discuss items on the agenda.  Meetings start at 6:30 p.m.
URL:https://www.westcarrollton.org/event/city-council-meeting-5-2/2028-11-28/
LOCATION:West Carrollton Civic Center\, 300 E. Central Ave.\, West Carrollton\, OH\, 45449\, United States
CATEGORIES:Upcoming Meetings
END:VEVENT
BEGIN:VEVENT
DTSTART;TZID=America/New_York:20281212T183000
DTEND;TZID=America/New_York:20281212T183000
DTSTAMP:20260424T143830
CREATED:20231120T151153Z
LAST-MODIFIED:20231120T162221Z
UID:10000671-1860258600-1860258600@www.westcarrollton.org
SUMMARY:City Council Meeting
DESCRIPTION:To discuss items on the agenda.  Meetings start at 6:30 p.m.
URL:https://www.westcarrollton.org/event/city-council-meeting-4/2028-12-12/
LOCATION:West Carrollton Civic Center\, 300 E. Central Ave.\, West Carrollton\, OH\, 45449\, United States
CATEGORIES:Upcoming Meetings
END:VEVENT
BEGIN:VEVENT
DTSTART;TZID=America/New_York:20281226T183000
DTEND;TZID=America/New_York:20281226T183000
DTSTAMP:20260424T143830
CREATED:20231120T160920Z
LAST-MODIFIED:20251219T153914Z
UID:10001020-1861468200-1861468200@www.westcarrollton.org
SUMMARY:City Council Meeting
DESCRIPTION:To discuss items on the agenda.  Meetings start at 6:30 p.m.
URL:https://www.westcarrollton.org/event/city-council-meeting-5-2/2028-12-26/
LOCATION:West Carrollton Civic Center\, 300 E. Central Ave.\, West Carrollton\, OH\, 45449\, United States
CATEGORIES:Upcoming Meetings
END:VEVENT
BEGIN:VEVENT
DTSTART;TZID=America/New_York:20290109T183000
DTEND;TZID=America/New_York:20290109T183000
DTSTAMP:20260424T143830
CREATED:20231120T151153Z
LAST-MODIFIED:20231120T162221Z
UID:10000672-1862677800-1862677800@www.westcarrollton.org
SUMMARY:City Council Meeting
DESCRIPTION:To discuss items on the agenda.  Meetings start at 6:30 p.m.
URL:https://www.westcarrollton.org/event/city-council-meeting-4/2029-01-09/
LOCATION:West Carrollton Civic Center\, 300 E. Central Ave.\, West Carrollton\, OH\, 45449\, United States
CATEGORIES:Upcoming Meetings
END:VEVENT
BEGIN:VEVENT
DTSTART;TZID=America/New_York:20290123T183000
DTEND;TZID=America/New_York:20290123T183000
DTSTAMP:20260424T143830
CREATED:20231120T160920Z
LAST-MODIFIED:20251219T153914Z
UID:10001021-1863887400-1863887400@www.westcarrollton.org
SUMMARY:City Council Meeting
DESCRIPTION:To discuss items on the agenda.  Meetings start at 6:30 p.m.
URL:https://www.westcarrollton.org/event/city-council-meeting-5-2/2029-01-23/
LOCATION:West Carrollton Civic Center\, 300 E. Central Ave.\, West Carrollton\, OH\, 45449\, United States
CATEGORIES:Upcoming Meetings
END:VEVENT
BEGIN:VEVENT
DTSTART;TZID=America/New_York:20290213T183000
DTEND;TZID=America/New_York:20290213T183000
DTSTAMP:20260424T143830
CREATED:20231120T151153Z
LAST-MODIFIED:20231120T162221Z
UID:10000673-1865701800-1865701800@www.westcarrollton.org
SUMMARY:City Council Meeting
DESCRIPTION:To discuss items on the agenda.  Meetings start at 6:30 p.m.
URL:https://www.westcarrollton.org/event/city-council-meeting-4/2029-02-13/
LOCATION:West Carrollton Civic Center\, 300 E. Central Ave.\, West Carrollton\, OH\, 45449\, United States
CATEGORIES:Upcoming Meetings
END:VEVENT
BEGIN:VEVENT
DTSTART;TZID=America/New_York:20290227T183000
DTEND;TZID=America/New_York:20290227T183000
DTSTAMP:20260424T143830
CREATED:20231120T160920Z
LAST-MODIFIED:20251219T153914Z
UID:10001022-1866911400-1866911400@www.westcarrollton.org
SUMMARY:City Council Meeting
DESCRIPTION:To discuss items on the agenda.  Meetings start at 6:30 p.m.
URL:https://www.westcarrollton.org/event/city-council-meeting-5-2/2029-02-27/
LOCATION:West Carrollton Civic Center\, 300 E. Central Ave.\, West Carrollton\, OH\, 45449\, United States
CATEGORIES:Upcoming Meetings
END:VEVENT
BEGIN:VEVENT
DTSTART;TZID=America/New_York:20290313T183000
DTEND;TZID=America/New_York:20290313T183000
DTSTAMP:20260424T143830
CREATED:20231120T151153Z
LAST-MODIFIED:20231120T162221Z
UID:10000674-1868121000-1868121000@www.westcarrollton.org
SUMMARY:City Council Meeting
DESCRIPTION:To discuss items on the agenda.  Meetings start at 6:30 p.m.
URL:https://www.westcarrollton.org/event/city-council-meeting-4/2029-03-13/
LOCATION:West Carrollton Civic Center\, 300 E. Central Ave.\, West Carrollton\, OH\, 45449\, United States
CATEGORIES:Upcoming Meetings
END:VEVENT
BEGIN:VEVENT
DTSTART;TZID=America/New_York:20290327T183000
DTEND;TZID=America/New_York:20290327T183000
DTSTAMP:20260424T143830
CREATED:20231120T160920Z
LAST-MODIFIED:20251219T153914Z
UID:10001023-1869330600-1869330600@www.westcarrollton.org
SUMMARY:City Council Meeting
DESCRIPTION:To discuss items on the agenda.  Meetings start at 6:30 p.m.
URL:https://www.westcarrollton.org/event/city-council-meeting-5-2/2029-03-27/
LOCATION:West Carrollton Civic Center\, 300 E. Central Ave.\, West Carrollton\, OH\, 45449\, United States
CATEGORIES:Upcoming Meetings
END:VEVENT
BEGIN:VEVENT
DTSTART;TZID=America/New_York:20290410T183000
DTEND;TZID=America/New_York:20290410T183000
DTSTAMP:20260424T143830
CREATED:20231120T151153Z
LAST-MODIFIED:20231120T162221Z
UID:10000675-1870540200-1870540200@www.westcarrollton.org
SUMMARY:City Council Meeting
DESCRIPTION:To discuss items on the agenda.  Meetings start at 6:30 p.m.
URL:https://www.westcarrollton.org/event/city-council-meeting-4/2029-04-10/
LOCATION:West Carrollton Civic Center\, 300 E. Central Ave.\, West Carrollton\, OH\, 45449\, United States
CATEGORIES:Upcoming Meetings
END:VEVENT
BEGIN:VEVENT
DTSTART;TZID=America/New_York:20290424T183000
DTEND;TZID=America/New_York:20290424T183000
DTSTAMP:20260424T143830
CREATED:20231120T160920Z
LAST-MODIFIED:20251219T153914Z
UID:10001024-1871749800-1871749800@www.westcarrollton.org
SUMMARY:City Council Meeting
DESCRIPTION:To discuss items on the agenda.  Meetings start at 6:30 p.m.
URL:https://www.westcarrollton.org/event/city-council-meeting-5-2/2029-04-24/
LOCATION:West Carrollton Civic Center\, 300 E. Central Ave.\, West Carrollton\, OH\, 45449\, United States
CATEGORIES:Upcoming Meetings
END:VEVENT
BEGIN:VEVENT
DTSTART;TZID=America/New_York:20290508T183000
DTEND;TZID=America/New_York:20290508T183000
DTSTAMP:20260424T143830
CREATED:20231120T151153Z
LAST-MODIFIED:20231120T162221Z
UID:10000676-1872959400-1872959400@www.westcarrollton.org
SUMMARY:City Council Meeting
DESCRIPTION:To discuss items on the agenda.  Meetings start at 6:30 p.m.
URL:https://www.westcarrollton.org/event/city-council-meeting-4/2029-05-08/
LOCATION:West Carrollton Civic Center\, 300 E. Central Ave.\, West Carrollton\, OH\, 45449\, United States
CATEGORIES:Upcoming Meetings
END:VEVENT
BEGIN:VEVENT
DTSTART;TZID=America/New_York:20290522T183000
DTEND;TZID=America/New_York:20290522T183000
DTSTAMP:20260424T143830
CREATED:20231120T160920Z
LAST-MODIFIED:20251219T153914Z
UID:10001025-1874169000-1874169000@www.westcarrollton.org
SUMMARY:City Council Meeting
DESCRIPTION:To discuss items on the agenda.  Meetings start at 6:30 p.m.
URL:https://www.westcarrollton.org/event/city-council-meeting-5-2/2029-05-22/
LOCATION:West Carrollton Civic Center\, 300 E. Central Ave.\, West Carrollton\, OH\, 45449\, United States
CATEGORIES:Upcoming Meetings
END:VEVENT
BEGIN:VEVENT
DTSTART;TZID=America/New_York:20290612T183000
DTEND;TZID=America/New_York:20290612T183000
DTSTAMP:20260424T143830
CREATED:20231120T151153Z
LAST-MODIFIED:20231120T162221Z
UID:10000874-1875983400-1875983400@www.westcarrollton.org
SUMMARY:City Council Meeting
DESCRIPTION:To discuss items on the agenda.  Meetings start at 6:30 p.m.
URL:https://www.westcarrollton.org/event/city-council-meeting-4/2029-06-12/
LOCATION:West Carrollton Civic Center\, 300 E. Central Ave.\, West Carrollton\, OH\, 45449\, United States
CATEGORIES:Upcoming Meetings
END:VEVENT
BEGIN:VEVENT
DTSTART;TZID=America/New_York:20290626T183000
DTEND;TZID=America/New_York:20290626T183000
DTSTAMP:20260424T143830
CREATED:20231120T160920Z
LAST-MODIFIED:20251219T153914Z
UID:10001026-1877193000-1877193000@www.westcarrollton.org
SUMMARY:City Council Meeting
DESCRIPTION:To discuss items on the agenda.  Meetings start at 6:30 p.m.
URL:https://www.westcarrollton.org/event/city-council-meeting-5-2/2029-06-26/
LOCATION:West Carrollton Civic Center\, 300 E. Central Ave.\, West Carrollton\, OH\, 45449\, United States
CATEGORIES:Upcoming Meetings
END:VEVENT
END:VCALENDAR