BEGIN:VCALENDAR
VERSION:2.0
PRODID:-//City of West Carrollton - ECPv6.15.20//NONSGML v1.0//EN
CALSCALE:GREGORIAN
METHOD:PUBLISH
X-ORIGINAL-URL:https://www.westcarrollton.org
X-WR-CALDESC:Events for City of West Carrollton
REFRESH-INTERVAL;VALUE=DURATION:PT1H
X-Robots-Tag:noindex
X-PUBLISHED-TTL:PT1H
BEGIN:VTIMEZONE
TZID:America/New_York
BEGIN:DAYLIGHT
TZOFFSETFROM:-0500
TZOFFSETTO:-0400
TZNAME:EDT
DTSTART:20240310T070000
END:DAYLIGHT
BEGIN:STANDARD
TZOFFSETFROM:-0400
TZOFFSETTO:-0500
TZNAME:EST
DTSTART:20241103T060000
END:STANDARD
BEGIN:DAYLIGHT
TZOFFSETFROM:-0500
TZOFFSETTO:-0400
TZNAME:EDT
DTSTART:20250309T070000
END:DAYLIGHT
BEGIN:STANDARD
TZOFFSETFROM:-0400
TZOFFSETTO:-0500
TZNAME:EST
DTSTART:20251102T060000
END:STANDARD
BEGIN:DAYLIGHT
TZOFFSETFROM:-0500
TZOFFSETTO:-0400
TZNAME:EDT
DTSTART:20260308T070000
END:DAYLIGHT
BEGIN:STANDARD
TZOFFSETFROM:-0400
TZOFFSETTO:-0500
TZNAME:EST
DTSTART:20261101T060000
END:STANDARD
BEGIN:DAYLIGHT
TZOFFSETFROM:-0500
TZOFFSETTO:-0400
TZNAME:EDT
DTSTART:20270314T070000
END:DAYLIGHT
BEGIN:STANDARD
TZOFFSETFROM:-0400
TZOFFSETTO:-0500
TZNAME:EST
DTSTART:20271107T060000
END:STANDARD
END:VTIMEZONE
BEGIN:VEVENT
DTSTART;TZID=America/New_York:20260416T183000
DTEND;TZID=America/New_York:20260416T193000
DTSTAMP:20260424T074628
CREATED:20260415T135141Z
LAST-MODIFIED:20260415T135141Z
UID:10001100-1776364200-1776367800@www.westcarrollton.org
SUMMARY:Planning Commission Meeting
DESCRIPTION:To discuss the items on the agenda. Meeting starts at 6:30 p.m. \nSection 9.01 Planning Commission\nThere shall be a municipal Planning Commission consisting of five (5) members all of whom shall be residents of the Municipality who hold no other Municipal office or employment\, selected by the Council for overlapping terms of five (5) years\, except that the members first selected shall be appointed for such terms that the term of one member shall expire annually thereafter. \nThe Commission shall adopt its own rules and elect its own officers annually. It shall have all the power and authority conferred upon city planning commissions by state law and such other duties as may be imposed upon it by the administrative code. Its members shall serve without compensation. (Amendment adopted by the electorate\, 11-7-95)
URL:https://www.westcarrollton.org/event/planning-commission-meeting-27/
LOCATION:West Carrollton Civic Center\, 300 E. Central Ave.\, West Carrollton\, OH\, 45449\, United States
CATEGORIES:Upcoming Meetings
END:VEVENT
BEGIN:VEVENT
DTSTART;TZID=America/New_York:20260414T183000
DTEND;TZID=America/New_York:20260414T183000
DTSTAMP:20260424T074628
CREATED:20231120T151153Z
LAST-MODIFIED:20231120T162221Z
UID:10000505-1776191400-1776191400@www.westcarrollton.org
SUMMARY:City Council Meeting
DESCRIPTION:To discuss items on the agenda.  Meetings start at 6:30 p.m.
URL:https://www.westcarrollton.org/event/city-council-meeting-4/2026-04-14/
LOCATION:West Carrollton Civic Center\, 300 E. Central Ave.\, West Carrollton\, OH\, 45449\, United States
CATEGORIES:Upcoming Meetings
END:VEVENT
BEGIN:VEVENT
DTSTART;TZID=America/New_York:20260413T180000
DTEND;TZID=America/New_York:20260413T180000
DTSTAMP:20260424T074628
CREATED:20260410T170055Z
LAST-MODIFIED:20260410T170252Z
UID:10001097-1776103200-1776103200@www.westcarrollton.org
SUMMARY:City Council Special Meeting
DESCRIPTION:City Council will hold a Special Meeting at 6:00 p.m. on Monday\, April 13\, 2026.  Please click here for a copy of the agenda.
URL:https://www.westcarrollton.org/event/city-council-special-meeting-5/
LOCATION:West Carrollton Civic Center\, 300 E. Central Ave.\, West Carrollton\, OH\, 45449\, United States
CATEGORIES:Upcoming Meetings
END:VEVENT
BEGIN:VEVENT
DTSTART;TZID=America/New_York:20260324T183000
DTEND;TZID=America/New_York:20260324T183000
DTSTAMP:20260424T074628
CREATED:20231120T160920Z
LAST-MODIFIED:20251219T153914Z
UID:10000562-1774377000-1774377000@www.westcarrollton.org
SUMMARY:City Council Meeting
DESCRIPTION:To discuss items on the agenda.  Meetings start at 6:30 p.m.
URL:https://www.westcarrollton.org/event/city-council-meeting-5-2/2026-03-24/
LOCATION:West Carrollton Civic Center\, 300 E. Central Ave.\, West Carrollton\, OH\, 45449\, United States
CATEGORIES:Upcoming Meetings
END:VEVENT
BEGIN:VEVENT
DTSTART;TZID=America/New_York:20260319T183000
DTEND;TZID=America/New_York:20260319T193000
DTSTAMP:20260424T074628
CREATED:20260317T130236Z
LAST-MODIFIED:20260317T130236Z
UID:10001059-1773945000-1773948600@www.westcarrollton.org
SUMMARY:Planning Commission Meeting
DESCRIPTION:To discuss the items on the agenda. Meeting starts at 6:30 p.m. \nSection 9.01 Planning Commission\nThere shall be a municipal Planning Commission consisting of five (5) members all of whom shall be residents of the Municipality who hold no other Municipal office or employment\, selected by the Council for overlapping terms of five (5) years\, except that the members first selected shall be appointed for such terms that the term of one member shall expire annually thereafter. \nThe Commission shall adopt its own rules and elect its own officers annually. It shall have all the power and authority conferred upon city planning commissions by state law and such other duties as may be imposed upon it by the administrative code. Its members shall serve without compensation. (Amendment adopted by the electorate\, 11-7-95)
URL:https://www.westcarrollton.org/event/planning-commission-meeting-26/
LOCATION:West Carrollton Civic Center\, 300 E. Central Ave.\, West Carrollton\, OH\, 45449\, United States
CATEGORIES:Upcoming Meetings
END:VEVENT
BEGIN:VEVENT
DTSTART;TZID=America/New_York:20260310T183000
DTEND;TZID=America/New_York:20260310T183000
DTSTAMP:20260424T074628
CREATED:20231120T151153Z
LAST-MODIFIED:20231120T162221Z
UID:10000504-1773167400-1773167400@www.westcarrollton.org
SUMMARY:City Council Meeting
DESCRIPTION:To discuss items on the agenda.  Meetings start at 6:30 p.m.
URL:https://www.westcarrollton.org/event/city-council-meeting-4/2026-03-10/
LOCATION:West Carrollton Civic Center\, 300 E. Central Ave.\, West Carrollton\, OH\, 45449\, United States
CATEGORIES:Upcoming Meetings
END:VEVENT
BEGIN:VEVENT
DTSTART;TZID=America/New_York:20260224T183000
DTEND;TZID=America/New_York:20260224T183000
DTSTAMP:20260424T074628
CREATED:20231120T160920Z
LAST-MODIFIED:20251219T153914Z
UID:10000561-1771957800-1771957800@www.westcarrollton.org
SUMMARY:City Council Meeting
DESCRIPTION:To discuss items on the agenda.  Meetings start at 6:30 p.m.
URL:https://www.westcarrollton.org/event/city-council-meeting-5-2/2026-02-24/
LOCATION:West Carrollton Civic Center\, 300 E. Central Ave.\, West Carrollton\, OH\, 45449\, United States
CATEGORIES:Upcoming Meetings
END:VEVENT
BEGIN:VEVENT
DTSTART;TZID=America/New_York:20260219T183000
DTEND;TZID=America/New_York:20260219T193000
DTSTAMP:20260424T074628
CREATED:20260130T154124Z
LAST-MODIFIED:20260130T154124Z
UID:10001050-1771525800-1771529400@www.westcarrollton.org
SUMMARY:Planning Commission Meeting
DESCRIPTION:To discuss the items on the agenda. Meeting starts at 6:30 p.m. \nSection 9.01 Planning Commission\nThere shall be a municipal Planning Commission consisting of five (5) members all of whom shall be residents of the Municipality who hold no other Municipal office or employment\, selected by the Council for overlapping terms of five (5) years\, except that the members first selected shall be appointed for such terms that the term of one member shall expire annually thereafter. \nThe Commission shall adopt its own rules and elect its own officers annually. It shall have all the power and authority conferred upon city planning commissions by state law and such other duties as may be imposed upon it by the administrative code. Its members shall serve without compensation. (Amendment adopted by the electorate\, 11-7-95)
URL:https://www.westcarrollton.org/event/planning-commission-meeting-25/
LOCATION:West Carrollton Civic Center\, 300 E. Central Ave.\, West Carrollton\, OH\, 45449\, United States
CATEGORIES:Upcoming Meetings
END:VEVENT
BEGIN:VEVENT
DTSTART;TZID=America/New_York:20260210T183000
DTEND;TZID=America/New_York:20260210T183000
DTSTAMP:20260424T074628
CREATED:20231120T151153Z
LAST-MODIFIED:20231120T162221Z
UID:10000503-1770748200-1770748200@www.westcarrollton.org
SUMMARY:City Council Meeting
DESCRIPTION:To discuss items on the agenda.  Meetings start at 6:30 p.m.
URL:https://www.westcarrollton.org/event/city-council-meeting-4/2026-02-10/
LOCATION:West Carrollton Civic Center\, 300 E. Central Ave.\, West Carrollton\, OH\, 45449\, United States
CATEGORIES:Upcoming Meetings
END:VEVENT
BEGIN:VEVENT
DTSTART;TZID=America/New_York:20260127T183000
DTEND;TZID=America/New_York:20260127T183000
DTSTAMP:20260424T074628
CREATED:20231120T160920Z
LAST-MODIFIED:20251219T153914Z
UID:10000560-1769538600-1769538600@www.westcarrollton.org
SUMMARY:City Council Meeting
DESCRIPTION:To discuss items on the agenda.  Meetings start at 6:30 p.m.
URL:https://www.westcarrollton.org/event/city-council-meeting-5-2/2026-01-27/
LOCATION:West Carrollton Civic Center\, 300 E. Central Ave.\, West Carrollton\, OH\, 45449\, United States
CATEGORIES:Upcoming Meetings
END:VEVENT
BEGIN:VEVENT
DTSTART;TZID=America/New_York:20260115T183000
DTEND;TZID=America/New_York:20260115T193000
DTSTAMP:20260424T074628
CREATED:20260106T141236Z
LAST-MODIFIED:20260106T141236Z
UID:10001045-1768501800-1768505400@www.westcarrollton.org
SUMMARY:Planning Commission Meeting
DESCRIPTION:To discuss the items on the agenda. Meeting starts at 6:30 p.m. \nSection 9.01 Planning Commission\nThere shall be a municipal Planning Commission consisting of five (5) members all of whom shall be residents of the Municipality who hold no other Municipal office or employment\, selected by the Council for overlapping terms of five (5) years\, except that the members first selected shall be appointed for such terms that the term of one member shall expire annually thereafter. \nThe Commission shall adopt its own rules and elect its own officers annually. It shall have all the power and authority conferred upon city planning commissions by state law and such other duties as may be imposed upon it by the administrative code. Its members shall serve without compensation. (Amendment adopted by the electorate\, 11-7-95)
URL:https://www.westcarrollton.org/event/planning-commission-meeting-24/
LOCATION:West Carrollton Civic Center\, 300 E. Central Ave.\, West Carrollton\, OH\, 45449\, United States
CATEGORIES:Upcoming Meetings
END:VEVENT
BEGIN:VEVENT
DTSTART;TZID=America/New_York:20260113T183000
DTEND;TZID=America/New_York:20260113T183000
DTSTAMP:20260424T074628
CREATED:20231120T151153Z
LAST-MODIFIED:20231120T162221Z
UID:10000502-1768329000-1768329000@www.westcarrollton.org
SUMMARY:City Council Meeting
DESCRIPTION:To discuss items on the agenda.  Meetings start at 6:30 p.m.
URL:https://www.westcarrollton.org/event/city-council-meeting-4/2026-01-13/
LOCATION:West Carrollton Civic Center\, 300 E. Central Ave.\, West Carrollton\, OH\, 45449\, United States
CATEGORIES:Upcoming Meetings
END:VEVENT
BEGIN:VEVENT
DTSTART;TZID=America/New_York:20251218T183000
DTEND;TZID=America/New_York:20251218T193000
DTSTAMP:20260424T074628
CREATED:20251124T152916Z
LAST-MODIFIED:20251124T152916Z
UID:10000974-1766082600-1766086200@www.westcarrollton.org
SUMMARY:Planning Commission Meeting
DESCRIPTION:To discuss the items on the agenda. Meeting starts at 6:30 p.m. \nSection 9.01 Planning Commission\nThere shall be a municipal Planning Commission consisting of five (5) members all of whom shall be residents of the Municipality who hold no other Municipal office or employment\, selected by the Council for overlapping terms of five (5) years\, except that the members first selected shall be appointed for such terms that the term of one member shall expire annually thereafter. \nThe Commission shall adopt its own rules and elect its own officers annually. It shall have all the power and authority conferred upon city planning commissions by state law and such other duties as may be imposed upon it by the administrative code. Its members shall serve without compensation. (Amendment adopted by the electorate\, 11-7-95)
URL:https://www.westcarrollton.org/event/planning-commission-meeting-23/
LOCATION:West Carrollton Civic Center\, 300 E. Central Ave.\, West Carrollton\, OH\, 45449\, United States
CATEGORIES:Upcoming Meetings
END:VEVENT
BEGIN:VEVENT
DTSTART;TZID=America/New_York:20251209T183000
DTEND;TZID=America/New_York:20251209T183000
DTSTAMP:20260424T074628
CREATED:20231120T151153Z
LAST-MODIFIED:20231120T162221Z
UID:10000501-1765305000-1765305000@www.westcarrollton.org
SUMMARY:City Council Meeting
DESCRIPTION:To discuss items on the agenda.  Meetings start at 6:30 p.m.
URL:https://www.westcarrollton.org/event/city-council-meeting-4/2025-12-09/
LOCATION:West Carrollton Civic Center\, 300 E. Central Ave.\, West Carrollton\, OH\, 45449\, United States
CATEGORIES:Upcoming Meetings
END:VEVENT
BEGIN:VEVENT
DTSTART;TZID=America/New_York:20251125T183000
DTEND;TZID=America/New_York:20251125T183000
DTSTAMP:20260424T074628
CREATED:20231120T160920Z
LAST-MODIFIED:20251219T153914Z
UID:10000558-1764095400-1764095400@www.westcarrollton.org
SUMMARY:City Council Meeting
DESCRIPTION:To discuss items on the agenda.  Meetings start at 6:30 p.m.
URL:https://www.westcarrollton.org/event/city-council-meeting-5-2/2025-11-25/
LOCATION:West Carrollton Civic Center\, 300 E. Central Ave.\, West Carrollton\, OH\, 45449\, United States
CATEGORIES:Upcoming Meetings
END:VEVENT
BEGIN:VEVENT
DTSTART;TZID=America/New_York:20251120T183000
DTEND;TZID=America/New_York:20251120T193000
DTSTAMP:20260424T074628
CREATED:20251103T210336Z
LAST-MODIFIED:20251103T210336Z
UID:10000966-1763663400-1763667000@www.westcarrollton.org
SUMMARY:Planning Commission Meeting
DESCRIPTION:To discuss the items on the agenda. Meeting starts at 6:30 p.m. \nSection 9.01 Planning Commission\nThere shall be a municipal Planning Commission consisting of five (5) members all of whom shall be residents of the Municipality who hold no other Municipal office or employment\, selected by the Council for overlapping terms of five (5) years\, except that the members first selected shall be appointed for such terms that the term of one member shall expire annually thereafter. \nThe Commission shall adopt its own rules and elect its own officers annually. It shall have all the power and authority conferred upon city planning commissions by state law and such other duties as may be imposed upon it by the administrative code. Its members shall serve without compensation. (Amendment adopted by the electorate\, 11-7-95)
URL:https://www.westcarrollton.org/event/planning-commission-meeting-22/
LOCATION:West Carrollton Civic Center\, 300 E. Central Ave.\, West Carrollton\, OH\, 45449\, United States
CATEGORIES:Upcoming Meetings
END:VEVENT
BEGIN:VEVENT
DTSTART;TZID=America/New_York:20251111T183000
DTEND;TZID=America/New_York:20251111T183000
DTSTAMP:20260424T074628
CREATED:20231120T151153Z
LAST-MODIFIED:20231120T162221Z
UID:10000500-1762885800-1762885800@www.westcarrollton.org
SUMMARY:City Council Meeting
DESCRIPTION:To discuss items on the agenda.  Meetings start at 6:30 p.m.
URL:https://www.westcarrollton.org/event/city-council-meeting-4/2025-11-11/
LOCATION:West Carrollton Civic Center\, 300 E. Central Ave.\, West Carrollton\, OH\, 45449\, United States
CATEGORIES:Upcoming Meetings
END:VEVENT
BEGIN:VEVENT
DTSTART;TZID=America/New_York:20251030T100000
DTEND;TZID=America/New_York:20251030T120000
DTSTAMP:20260424T074628
CREATED:20251007T175343Z
LAST-MODIFIED:20251016T180203Z
UID:10000959-1761818400-1761825600@www.westcarrollton.org
SUMMARY:Records Commission Meeting
DESCRIPTION:This meeting will be held in the Council Workroom to discuss records retention.  This meeting is open to the public. \nPlease click here for a copy of the meeting agenda.
URL:https://www.westcarrollton.org/event/records-commission-meeting-5/
LOCATION:West Carrollton Civic Center\, 300 E. Central Ave.\, West Carrollton\, OH\, 45449\, United States
CATEGORIES:Upcoming Meetings
END:VEVENT
BEGIN:VEVENT
DTSTART;TZID=America/New_York:20251028T183000
DTEND;TZID=America/New_York:20251028T183000
DTSTAMP:20260424T074628
CREATED:20231120T160920Z
LAST-MODIFIED:20251219T153914Z
UID:10000557-1761676200-1761676200@www.westcarrollton.org
SUMMARY:City Council Meeting
DESCRIPTION:To discuss items on the agenda.  Meetings start at 6:30 p.m.
URL:https://www.westcarrollton.org/event/city-council-meeting-5-2/2025-10-28/
LOCATION:West Carrollton Civic Center\, 300 E. Central Ave.\, West Carrollton\, OH\, 45449\, United States
CATEGORIES:Upcoming Meetings
END:VEVENT
BEGIN:VEVENT
DTSTART;TZID=America/New_York:20251016T183000
DTEND;TZID=America/New_York:20251016T193000
DTSTAMP:20260424T074628
CREATED:20251013T131412Z
LAST-MODIFIED:20251013T131412Z
UID:10000962-1760639400-1760643000@www.westcarrollton.org
SUMMARY:Planning Commission Meeting
DESCRIPTION:To discuss the items on the agenda. Meeting starts at 6:30 p.m. \nSection 9.01 Planning Commission\nThere shall be a municipal Planning Commission consisting of five (5) members all of whom shall be residents of the Municipality who hold no other Municipal office or employment\, selected by the Council for overlapping terms of five (5) years\, except that the members first selected shall be appointed for such terms that the term of one member shall expire annually thereafter. \nThe Commission shall adopt its own rules and elect its own officers annually. It shall have all the power and authority conferred upon city planning commissions by state law and such other duties as may be imposed upon it by the administrative code. Its members shall serve without compensation. (Amendment adopted by the electorate\, 11-7-95)
URL:https://www.westcarrollton.org/event/planning-commission-meeting-21/
LOCATION:West Carrollton Civic Center\, 300 E. Central Ave.\, West Carrollton\, OH\, 45449\, United States
CATEGORIES:Upcoming Meetings
END:VEVENT
BEGIN:VEVENT
DTSTART;TZID=America/New_York:20251014T183000
DTEND;TZID=America/New_York:20251014T183000
DTSTAMP:20260424T074628
CREATED:20231120T151153Z
LAST-MODIFIED:20231120T162221Z
UID:10000499-1760466600-1760466600@www.westcarrollton.org
SUMMARY:City Council Meeting
DESCRIPTION:To discuss items on the agenda.  Meetings start at 6:30 p.m.
URL:https://www.westcarrollton.org/event/city-council-meeting-4/2025-10-14/
LOCATION:West Carrollton Civic Center\, 300 E. Central Ave.\, West Carrollton\, OH\, 45449\, United States
CATEGORIES:Upcoming Meetings
END:VEVENT
BEGIN:VEVENT
DTSTART;TZID=America/New_York:20251007T170000
DTEND;TZID=America/New_York:20251007T200000
DTSTAMP:20260424T074628
CREATED:20251003T161627Z
LAST-MODIFIED:20251003T161627Z
UID:10000958-1759856400-1759867200@www.westcarrollton.org
SUMMARY:City Council Special Meeting - 2026 Budget Planning Work Session
DESCRIPTION:West Carrollton City Council will hold a Special Meeting on Tuesday\, October 7\, 2025 to conduct a 2026 Budget Planning Work Session.  This meeting will be held in the Police Department Training Room and is open to the public. \nPlease click here for a copy of the agenda. \n 
URL:https://www.westcarrollton.org/event/city-council-special-meeting-2026-budget-planning-work-session/
LOCATION:West Carrollton Civic Center\, 300 E. Central Ave.\, West Carrollton\, OH\, 45449\, United States
CATEGORIES:Upcoming Meetings
END:VEVENT
BEGIN:VEVENT
DTSTART;TZID=America/New_York:20250923T183000
DTEND;TZID=America/New_York:20250923T183000
DTSTAMP:20260424T074628
CREATED:20231120T160920Z
LAST-MODIFIED:20251219T153914Z
UID:10000556-1758652200-1758652200@www.westcarrollton.org
SUMMARY:City Council Meeting
DESCRIPTION:To discuss items on the agenda.  Meetings start at 6:30 p.m.
URL:https://www.westcarrollton.org/event/city-council-meeting-5-2/2025-09-23/
LOCATION:West Carrollton Civic Center\, 300 E. Central Ave.\, West Carrollton\, OH\, 45449\, United States
CATEGORIES:Upcoming Meetings
END:VEVENT
BEGIN:VEVENT
DTSTART;TZID=America/New_York:20250918T183000
DTEND;TZID=America/New_York:20250918T193000
DTSTAMP:20260424T074628
CREATED:20250909T182327Z
LAST-MODIFIED:20250909T182327Z
UID:10000957-1758220200-1758223800@www.westcarrollton.org
SUMMARY:Planning Commission Meeting
DESCRIPTION:To discuss the items on the agenda. Meeting starts at 6:30 p.m. \nSection 9.01 Planning Commission\nThere shall be a municipal Planning Commission consisting of five (5) members all of whom shall be residents of the Municipality who hold no other Municipal office or employment\, selected by the Council for overlapping terms of five (5) years\, except that the members first selected shall be appointed for such terms that the term of one member shall expire annually thereafter. \nThe Commission shall adopt its own rules and elect its own officers annually. It shall have all the power and authority conferred upon city planning commissions by state law and such other duties as may be imposed upon it by the administrative code. Its members shall serve without compensation. (Amendment adopted by the electorate\, 11-7-95)
URL:https://www.westcarrollton.org/event/planning-commission-meeting-20/
LOCATION:West Carrollton Civic Center\, 300 E. Central Ave.\, West Carrollton\, OH\, 45449\, United States
CATEGORIES:Upcoming Meetings
END:VEVENT
BEGIN:VEVENT
DTSTART;TZID=America/New_York:20250909T183000
DTEND;TZID=America/New_York:20250909T183000
DTSTAMP:20260424T074628
CREATED:20231120T151153Z
LAST-MODIFIED:20231120T162221Z
UID:10000498-1757442600-1757442600@www.westcarrollton.org
SUMMARY:City Council Meeting
DESCRIPTION:To discuss items on the agenda.  Meetings start at 6:30 p.m.
URL:https://www.westcarrollton.org/event/city-council-meeting-4/2025-09-09/
LOCATION:West Carrollton Civic Center\, 300 E. Central Ave.\, West Carrollton\, OH\, 45449\, United States
CATEGORIES:Upcoming Meetings
END:VEVENT
BEGIN:VEVENT
DTSTART;TZID=America/New_York:20250826T183000
DTEND;TZID=America/New_York:20250826T183000
DTSTAMP:20260424T074628
CREATED:20231120T160920Z
LAST-MODIFIED:20251219T153914Z
UID:10000555-1756233000-1756233000@www.westcarrollton.org
SUMMARY:City Council Meeting
DESCRIPTION:To discuss items on the agenda.  Meetings start at 6:30 p.m.
URL:https://www.westcarrollton.org/event/city-council-meeting-5-2/2025-08-26/
LOCATION:West Carrollton Civic Center\, 300 E. Central Ave.\, West Carrollton\, OH\, 45449\, United States
CATEGORIES:Upcoming Meetings
END:VEVENT
BEGIN:VEVENT
DTSTART;TZID=America/New_York:20250821T183000
DTEND;TZID=America/New_York:20250821T193000
DTSTAMP:20260424T074628
CREATED:20250804T194353Z
LAST-MODIFIED:20250804T194353Z
UID:10000942-1755801000-1755804600@www.westcarrollton.org
SUMMARY:Planning Commission Meeting
DESCRIPTION:To discuss the items on the agenda. Meeting starts at 6:30 p.m. \nSection 9.01 Planning Commission\nThere shall be a municipal Planning Commission consisting of five (5) members all of whom shall be residents of the Municipality who hold no other Municipal office or employment\, selected by the Council for overlapping terms of five (5) years\, except that the members first selected shall be appointed for such terms that the term of one member shall expire annually thereafter. \nThe Commission shall adopt its own rules and elect its own officers annually. It shall have all the power and authority conferred upon city planning commissions by state law and such other duties as may be imposed upon it by the administrative code. Its members shall serve without compensation. (Amendment adopted by the electorate\, 11-7-95)
URL:https://www.westcarrollton.org/event/planning-commission-meeting-19/
LOCATION:West Carrollton Civic Center\, 300 E. Central Ave.\, West Carrollton\, OH\, 45449\, United States
CATEGORIES:Upcoming Meetings
END:VEVENT
BEGIN:VEVENT
DTSTART;TZID=America/New_York:20250812T183000
DTEND;TZID=America/New_York:20250812T183000
DTSTAMP:20260424T074628
CREATED:20231120T151153Z
LAST-MODIFIED:20231120T162221Z
UID:10000497-1755023400-1755023400@www.westcarrollton.org
SUMMARY:City Council Meeting
DESCRIPTION:To discuss items on the agenda.  Meetings start at 6:30 p.m.
URL:https://www.westcarrollton.org/event/city-council-meeting-4/2025-08-12/
LOCATION:West Carrollton Civic Center\, 300 E. Central Ave.\, West Carrollton\, OH\, 45449\, United States
CATEGORIES:Upcoming Meetings
END:VEVENT
BEGIN:VEVENT
DTSTART;TZID=America/New_York:20250722T183000
DTEND;TZID=America/New_York:20250722T183000
DTSTAMP:20260424T074628
CREATED:20231120T160920Z
LAST-MODIFIED:20251219T153914Z
UID:10000554-1753209000-1753209000@www.westcarrollton.org
SUMMARY:City Council Meeting
DESCRIPTION:To discuss items on the agenda.  Meetings start at 6:30 p.m.
URL:https://www.westcarrollton.org/event/city-council-meeting-5-2/2025-07-22/
LOCATION:West Carrollton Civic Center\, 300 E. Central Ave.\, West Carrollton\, OH\, 45449\, United States
CATEGORIES:Upcoming Meetings
END:VEVENT
BEGIN:VEVENT
DTSTART;TZID=America/New_York:20250717T183000
DTEND;TZID=America/New_York:20250717T193000
DTSTAMP:20260424T074628
CREATED:20250714T175526Z
LAST-MODIFIED:20250714T175526Z
UID:10000930-1752777000-1752780600@www.westcarrollton.org
SUMMARY:Planning Commission Meeting
DESCRIPTION:To discuss the items on the agenda. Meeting starts at 6:30 p.m. \nSection 9.01 Planning Commission\nThere shall be a municipal Planning Commission consisting of five (5) members all of whom shall be residents of the Municipality who hold no other Municipal office or employment\, selected by the Council for overlapping terms of five (5) years\, except that the members first selected shall be appointed for such terms that the term of one member shall expire annually thereafter. \nThe Commission shall adopt its own rules and elect its own officers annually. It shall have all the power and authority conferred upon city planning commissions by state law and such other duties as may be imposed upon it by the administrative code. Its members shall serve without compensation. (Amendment adopted by the electorate\, 11-7-95)
URL:https://www.westcarrollton.org/event/planning-commission-meeting-18/
LOCATION:West Carrollton Civic Center\, 300 E. Central Ave.\, West Carrollton\, OH\, 45449\, United States
CATEGORIES:Upcoming Meetings
END:VEVENT
END:VCALENDAR